BEGIN:VCALENDAR
VERSION:2.0
PRODID:-//Mark A. Hill - ECPv6.13.0//NONSGML v1.0//EN
CALSCALE:GREGORIAN
METHOD:PUBLISH
X-ORIGINAL-URL:https://markhill.english-teachers.it
X-WR-CALDESC:Eventi per Mark A. Hill
REFRESH-INTERVAL;VALUE=DURATION:PT1H
X-Robots-Tag:noindex
X-PUBLISHED-TTL:PT1H
BEGIN:VTIMEZONE
TZID:UTC
BEGIN:STANDARD
TZOFFSETFROM:+0000
TZOFFSETTO:+0000
TZNAME:UTC
DTSTART:20250101T000000
END:STANDARD
END:VTIMEZONE
BEGIN:VEVENT
DTSTART;TZID=UTC:20251218T180000
DTEND;TZID=UTC:20251218T193000
DTSTAMP:20260420T194758
CREATED:20251218T130753Z
LAST-MODIFIED:20251218T130954Z
UID:15557-1766080800-1766086200@markhill.english-teachers.it
SUMMARY:Book Presentation - Piccolo Gatsby
DESCRIPTION:Giovedì 18 dicembre – ore 18:00 \nMark A. Hill presenterà il suo romanzo “Mitchell Rose and the Bologna Massacre (Independently Published\, 2025) presso “Piccolo Gatsby” dialogando con Pamela Bini\, accompagnato alla chitarra da Andrea Pani. \nÈ gradita la prenotazione: +39 375 922 0200 \nEvento organizzato da Silvia Boi.
URL:https://markhill.english-teachers.it/event/book-presentation-piccolo-gatsby/
LOCATION:Piccolo Gatsby\, Via Giosuè Carducci\, 1b\, Cagliari\, 09128\, Italy
CATEGORIES:Presentations
ATTACH;FMTTYPE=image/jpeg:https://markhill.english-teachers.it/wp-content/uploads/2025/12/IlVinoConAutore_Dic25-e1766063972194.jpeg
END:VEVENT
END:VCALENDAR