BEGIN:VCALENDAR
VERSION:2.0
PRODID:-//Mark A. Hill - ECPv6.13.0//NONSGML v1.0//EN
CALSCALE:GREGORIAN
METHOD:PUBLISH
X-WR-CALNAME:Mark A. Hill
X-ORIGINAL-URL:https://markhill.english-teachers.it
X-WR-CALDESC:Eventi per Mark A. Hill
REFRESH-INTERVAL;VALUE=DURATION:PT1H
X-Robots-Tag:noindex
X-PUBLISHED-TTL:PT1H
BEGIN:VTIMEZONE
TZID:UTC
BEGIN:STANDARD
TZOFFSETFROM:+0000
TZOFFSETTO:+0000
TZNAME:UTC
DTSTART:20250101T000000
END:STANDARD
END:VTIMEZONE
BEGIN:VEVENT
DTSTART;TZID=UTC:20251121T183000
DTEND;TZID=UTC:20251121T193000
DTSTAMP:20260421T031947
CREATED:20251119T140203Z
LAST-MODIFIED:20251119T140324Z
UID:15549-1763749800-1763753400@markhill.english-teachers.it
SUMMARY:Book Presentation - IEC Cagliari
DESCRIPTION:Venerdì 21 novembre – ore 18:30 \nMark A. Hill presenterà il suo romanzo “Mitchell Rose and the Bologna Massacre (Independently Published\, 2025) presso “IEC – CAGLIARI”\, Piazza Galileo Galilei 33.
URL:https://markhill.english-teachers.it/event/book-presentation-iec_cagliari/
LOCATION:IEC Cagliari\, Piazza Galileo Galilei 33\, Cagliari\, 09100\, Italy
CATEGORIES:Presentations
ATTACH;FMTTYPE=image/jpeg:https://markhill.english-teachers.it/wp-content/uploads/2025/11/IEC_Cagliari_2025-e1763561113157.jpeg
END:VEVENT
BEGIN:VEVENT
DTSTART;TZID=UTC:20251029T190000
DTEND;TZID=UTC:20251029T200000
DTSTAMP:20260421T031947
CREATED:20251025T211450Z
LAST-MODIFIED:20251025T211619Z
UID:15499-1761764400-1761768000@markhill.english-teachers.it
SUMMARY:Book Presentation - IEC Assemini
DESCRIPTION:Mercoledì 29 ottobre – ore 19 \nMark A. Hill presenterà il suo romanzo “Mitchell Rose and the Bologna Massacre (Independently Published\, 2025) presso “IEC – ASSEMINI”\, Via Toscana\, 15/17/19.
URL:https://markhill.english-teachers.it/event/book-presentation-iec_assemini/
LOCATION:IEC Assemini\, Via Toscana\, 15/17/19\, Assemini\, Cagliari\, 09032\, Italy
CATEGORIES:Presentations
ATTACH;FMTTYPE=image/jpeg:https://markhill.english-teachers.it/wp-content/uploads/2025/10/IECAssemini_10.2025-e1763561163364.jpeg
END:VEVENT
BEGIN:VEVENT
DTSTART;TZID=UTC:20251023T180000
DTEND;TZID=UTC:20251023T190000
DTSTAMP:20260421T031947
CREATED:20251025T210313Z
LAST-MODIFIED:20251025T210817Z
UID:15488-1761242400-1761246000@markhill.english-teachers.it
SUMMARY:Book Presentation - Ex Convento dei Cappuccini
DESCRIPTION:Giovedì 23 ottobre – ore 18\nEx Convento dei Cappuccini – Sala dell’Affresco\, Via Brigata Sassari 4\, Quartu Sant’Elena.\nMark A. Hill sarà ospite dell’evento “ViaConvento – Autunno 2025 ” presso l’Ex Convento dei Cappuccini\, per presentare il suo romanzo “Mitchell Rose and the Bologna Massacre (Independently Published\, 2025)\, un thriller che intreccia storia e finzione\, esplorando cinquant’anni di legami tra criminalità\, politica\, servizi segreti e giustizia.\nA dialogare con l’autore sarà Carlo Antonio Angioni\, in un incontro organizzato in collaborazione con l’associazione Artifizio. \n\nL’ingresso è libero e non è richiesta la prenotazione.
URL:https://markhill.english-teachers.it/event/book-presentation-ex-convento-dei-cappuccini/
LOCATION:Ex Convento dei Cappuccini\, Via Brigata Sassari 4\, Quartu Sant'Elena\, CAGLIARI\, 09045
CATEGORIES:Presentations
ATTACH;FMTTYPE=image/jpeg:https://markhill.english-teachers.it/wp-content/uploads/2025/10/ExConventoCappuccini_10.2025-e1761426378497.jpeg
END:VEVENT
BEGIN:VEVENT
DTSTART;TZID=UTC:20251018T183000
DTEND;TZID=UTC:20251018T193000
DTSTAMP:20260421T031947
CREATED:20251014T192351Z
LAST-MODIFIED:20251014T194349Z
UID:15462-1760812200-1760815800@markhill.english-teachers.it
SUMMARY:Book Presentation - Gallery Store
DESCRIPTION:IL CRIMINE INCONTRA LO STILE\nUn evento unico in cui la moda si fonde con il crimine! \nThe Gallery è lieta di ospitare Mark A. Hill per il lancio del suo avvincente romanzo crime: “Mitchell Rose and the Bologna Massacre”.\nUn’occasione unica per immergerti nelle pagine di un thriller mozzafiato ed esplorare in anteprima la Nuova Collezione Autunno-Inverno di The Gallery Store.\nLasciati ispirare dalle trame avvincenti del libro e dai tessuti della nuova stagione.\nUn mix perfetto di mistero e glamour.\nNon mancare un omicidio di stile ti aspetta!! \n 
URL:https://markhill.english-teachers.it/event/book-presentation-gallery-store/
LOCATION:The Gallery Store\, Via Alghero 30/A\, Cagliari\, 09100\, Italy
CATEGORIES:Presentations
ATTACH;FMTTYPE=image/jpeg:https://markhill.english-teachers.it/wp-content/uploads/2025/10/GalleryStore_18-10-25.jpg
END:VEVENT
BEGIN:VEVENT
DTSTART;TZID=UTC:20251017T180000
DTEND;TZID=UTC:20251017T190000
DTSTAMP:20260421T031947
CREATED:20251014T193836Z
LAST-MODIFIED:20251014T194445Z
UID:15477-1760724000-1760727600@markhill.english-teachers.it
SUMMARY:Book Presentation - Mondadori Library
DESCRIPTION:Presentazione del libro “Mitchell Rose and the Bologna Massacre” (Wallace Publishing 2025) di Mark A. Hill all’interno del Festival Letterario di invito alla Lettura “Dialoghi di Carta“\, VII edizione 2025.\nDialoga con l’autore Antonella Orrù.\nLetture a cura di Elena Pau. \nIngresso libero – Prenotazione non obbligatoriaInfo: dialoghidicarta@gmail.com \nOrganizzazione: La Fabbrica Illuminata ETS \n 
URL:https://markhill.english-teachers.it/event/book-presentation-mondadori-library/
LOCATION:Libreria Mondadori\, Via Roma 63/65\, Cagliari\, 09100\, Italy
CATEGORIES:Presentations
ATTACH;FMTTYPE=image/jpeg:https://markhill.english-teachers.it/wp-content/uploads/2025/10/dialoghi_di_carta_17-10-2025.jpg
END:VEVENT
BEGIN:VEVENT
DTSTART;TZID=UTC:20251003T170000
DTEND;TZID=UTC:20251003T190000
DTSTAMP:20260421T031947
CREATED:20250929T132042Z
LAST-MODIFIED:20251119T140806Z
UID:15449-1759510800-1759518000@markhill.english-teachers.it
SUMMARY:Book Presentation - San Sperate
DESCRIPTION:Mitchell Rose and the Bologna Massacre is a crime story that explores the last fifty years of cross-fertilisation between the Italian criminal underworld\, its secret services\, politics and the judicial system. \nProgram: \n\n5:00 to 6:00 pm: tour of the museum\n\n\n6:00 to 7:00 pm: book presentation with the author\, reading and interview with musical accompaniment\n\nPrice: 16€ \nLIMITED PLACES RESERVATIONS REQUIRED: +39 3406740141
URL:https://markhill.english-teachers.it/event/book-presentation-san-sperate/
LOCATION:Museo Sonoro di Pinuccio Sciola\, San Sperate\, Via Oriana Fallaci\, San Sperate\, CA\, 09026\, Italy
CATEGORIES:Presentations
ATTACH;FMTTYPE=image/png:https://markhill.english-teachers.it/wp-content/uploads/2025/09/Presentazione_libro_SAN_SPERATE-e1763561256764.png
END:VEVENT
BEGIN:VEVENT
DTSTART;TZID=UTC:20250701T080000
DTEND;TZID=UTC:20250712T010000
DTSTAMP:20260421T031947
CREATED:20160711T230000Z
LAST-MODIFIED:20250723T213039Z
UID:10805-1751356800-1752282000@markhill.english-teachers.it
SUMMARY:Mark Hill si racconta ai microfoni di Unica Radio
DESCRIPTION:Mark Hill sarà intervistato l’11 Luglio 2025 da Unica Radio alle 8:00
URL:https://markhill.english-teachers.it/event/interviewunicaradio/
CATEGORIES:Interview
ATTACH;FMTTYPE=image/jpeg:https://markhill.english-teachers.it/wp-content/uploads/2025/05/Mark_Hill_about.jpg
END:VEVENT
END:VCALENDAR