BEGIN:VCALENDAR
VERSION:2.0
PRODID:-//Mark A. Hill - ECPv6.13.0//NONSGML v1.0//EN
CALSCALE:GREGORIAN
METHOD:PUBLISH
X-WR-CALNAME:Mark A. Hill
X-ORIGINAL-URL:https://markhill.english-teachers.it
X-WR-CALDESC:Eventi per Mark A. Hill
REFRESH-INTERVAL;VALUE=DURATION:PT1H
X-Robots-Tag:noindex
X-PUBLISHED-TTL:PT1H
BEGIN:VTIMEZONE
TZID:UTC
BEGIN:STANDARD
TZOFFSETFROM:+0000
TZOFFSETTO:+0000
TZNAME:UTC
DTSTART:20250101T000000
END:STANDARD
END:VTIMEZONE
BEGIN:VEVENT
DTSTART;TZID=UTC:20251023T180000
DTEND;TZID=UTC:20251023T190000
DTSTAMP:20260421T011807
CREATED:20251025T210313Z
LAST-MODIFIED:20251025T210817Z
UID:15488-1761242400-1761246000@markhill.english-teachers.it
SUMMARY:Book Presentation - Ex Convento dei Cappuccini
DESCRIPTION:Giovedì 23 ottobre – ore 18\nEx Convento dei Cappuccini – Sala dell’Affresco\, Via Brigata Sassari 4\, Quartu Sant’Elena.\nMark A. Hill sarà ospite dell’evento “ViaConvento – Autunno 2025 ” presso l’Ex Convento dei Cappuccini\, per presentare il suo romanzo “Mitchell Rose and the Bologna Massacre (Independently Published\, 2025)\, un thriller che intreccia storia e finzione\, esplorando cinquant’anni di legami tra criminalità\, politica\, servizi segreti e giustizia.\nA dialogare con l’autore sarà Carlo Antonio Angioni\, in un incontro organizzato in collaborazione con l’associazione Artifizio. \n\nL’ingresso è libero e non è richiesta la prenotazione.
URL:https://markhill.english-teachers.it/event/book-presentation-ex-convento-dei-cappuccini/
LOCATION:Ex Convento dei Cappuccini\, Via Brigata Sassari 4\, Quartu Sant'Elena\, CAGLIARI\, 09045
CATEGORIES:Presentations
ATTACH;FMTTYPE=image/jpeg:https://markhill.english-teachers.it/wp-content/uploads/2025/10/ExConventoCappuccini_10.2025-e1761426378497.jpeg
END:VEVENT
END:VCALENDAR