BEGIN:VCALENDAR
VERSION:2.0
PRODID:-//Mark A. Hill - ECPv6.13.0//NONSGML v1.0//EN
CALSCALE:GREGORIAN
METHOD:PUBLISH
X-WR-CALNAME:Mark A. Hill
X-ORIGINAL-URL:https://markhill.english-teachers.it
X-WR-CALDESC:Eventi per Mark A. Hill
REFRESH-INTERVAL;VALUE=DURATION:PT1H
X-Robots-Tag:noindex
X-PUBLISHED-TTL:PT1H
BEGIN:VTIMEZONE
TZID:UTC
BEGIN:STANDARD
TZOFFSETFROM:+0000
TZOFFSETTO:+0000
TZNAME:UTC
DTSTART:20250101T000000
END:STANDARD
END:VTIMEZONE
BEGIN:VEVENT
DTSTART;TZID=UTC:20251018T183000
DTEND;TZID=UTC:20251018T193000
DTSTAMP:20260421T011807
CREATED:20251014T192351Z
LAST-MODIFIED:20251014T194349Z
UID:15462-1760812200-1760815800@markhill.english-teachers.it
SUMMARY:Book Presentation - Gallery Store
DESCRIPTION:IL CRIMINE INCONTRA LO STILE\nUn evento unico in cui la moda si fonde con il crimine! \nThe Gallery è lieta di ospitare Mark A. Hill per il lancio del suo avvincente romanzo crime: “Mitchell Rose and the Bologna Massacre”.\nUn’occasione unica per immergerti nelle pagine di un thriller mozzafiato ed esplorare in anteprima la Nuova Collezione Autunno-Inverno di The Gallery Store.\nLasciati ispirare dalle trame avvincenti del libro e dai tessuti della nuova stagione.\nUn mix perfetto di mistero e glamour.\nNon mancare un omicidio di stile ti aspetta!! \n 
URL:https://markhill.english-teachers.it/event/book-presentation-gallery-store/
LOCATION:The Gallery Store\, Via Alghero 30/A\, Cagliari\, 09100\, Italy
CATEGORIES:Presentations
ATTACH;FMTTYPE=image/jpeg:https://markhill.english-teachers.it/wp-content/uploads/2025/10/GalleryStore_18-10-25.jpg
END:VEVENT
END:VCALENDAR