BEGIN:VCALENDAR
VERSION:2.0
PRODID:-//Mark A. Hill - ECPv6.13.0//NONSGML v1.0//EN
CALSCALE:GREGORIAN
METHOD:PUBLISH
X-ORIGINAL-URL:https://markhill.english-teachers.it
X-WR-CALDESC:Eventi per Mark A. Hill
REFRESH-INTERVAL;VALUE=DURATION:PT1H
X-Robots-Tag:noindex
X-PUBLISHED-TTL:PT1H
BEGIN:VTIMEZONE
TZID:UTC
BEGIN:STANDARD
TZOFFSETFROM:+0000
TZOFFSETTO:+0000
TZNAME:UTC
DTSTART:20250101T000000
END:STANDARD
END:VTIMEZONE
BEGIN:VEVENT
DTSTART;TZID=UTC:20251017T180000
DTEND;TZID=UTC:20251017T190000
DTSTAMP:20260421T011848
CREATED:20251014T193836Z
LAST-MODIFIED:20251014T194445Z
UID:15477-1760724000-1760727600@markhill.english-teachers.it
SUMMARY:Book Presentation - Mondadori Library
DESCRIPTION:Presentazione del libro “Mitchell Rose and the Bologna Massacre” (Wallace Publishing 2025) di Mark A. Hill all’interno del Festival Letterario di invito alla Lettura “Dialoghi di Carta“\, VII edizione 2025.\nDialoga con l’autore Antonella Orrù.\nLetture a cura di Elena Pau. \nIngresso libero – Prenotazione non obbligatoriaInfo: dialoghidicarta@gmail.com \nOrganizzazione: La Fabbrica Illuminata ETS \n 
URL:https://markhill.english-teachers.it/event/book-presentation-mondadori-library/
LOCATION:Libreria Mondadori\, Via Roma 63/65\, Cagliari\, 09100\, Italy
CATEGORIES:Presentations
ATTACH;FMTTYPE=image/jpeg:https://markhill.english-teachers.it/wp-content/uploads/2025/10/dialoghi_di_carta_17-10-2025.jpg
END:VEVENT
END:VCALENDAR